BEGIN:VCALENDAR
VERSION:2.0
PRODID:-//wp-events-plugin.com//7.2.3.1//EN
TZID:Europe/Amsterdam
X-WR-TIMEZONE:Europe/Amsterdam
BEGIN:VEVENT
UID:121@nootaandeman.nl
DTSTART;TZID=Europe/Amsterdam:20260304T200000
DTEND;TZID=Europe/Amsterdam:20260304T220000
DTSTAMP:20260216T142123Z
URL:https://nootaandeman.nl/events/repetitie-noot-aan-de-man-2/
SUMMARY:Repetitie Noot aan de Man
DESCRIPTION:Koorrepetitie Noot aan de Man
ATTACH;FMTTYPE=image/jpeg:https://nootaandeman.nl/wp-content/uploads/2023/
 11/hoogland-fotografie_3469.jpg__2560x2560_q100_subsampling-2.jpg
CATEGORIES:Repetitie
LOCATION:Van Dijckschool\, Van Dijcklaan 4\, Bilthoven\, Utrecht\, 3723 CG\
 , Nederland
GEO:52.136362;5.208565
X-APPLE-STRUCTURED-LOCATION;VALUE=URI;X-ADDRESS=Van Dijcklaan 4\, Bilthoven
 \, Utrecht\, 3723 CG\, Nederland;X-APPLE-RADIUS=100;X-TITLE=Van Dijckschoo
 l:geo:52.136362,5.208565
END:VEVENT
BEGIN:VEVENT
UID:41@nootaandeman.nl
DTSTART;TZID=Europe/Amsterdam:20260311T200000
DTEND;TZID=Europe/Amsterdam:20260325T220000
DTSTAMP:20260216T114606Z
URL:https://nootaandeman.nl/events/repetitie-noot-aan-de-man-2026-02-04-20
 26-02-05-2026-02-06-2026-02-07-2026-02-08-2026-02-09-2026-02-10-2026-02-11
 -2026-02-12-2026-02-13-2026-02-14-2026-02-15-2026-02-16-2026-02-17-2026-0-
 10-2026-03-11/
SUMMARY:Repetitie Noot aan de Man
DESCRIPTION:Koorrepetitie Noot aan de Man
ATTACH;FMTTYPE=image/jpeg:https://nootaandeman.nl/wp-content/uploads/2023/
 11/hoogland-fotografie_3469.jpg__2560x2560_q100_subsampling-2.jpg
CATEGORIES:Repetitie
LOCATION:Van Dijckschool\, Van Dijcklaan 4\, Bilthoven\, Utrecht\, 3723 CG\
 , Nederland
GEO:52.136362;5.208565
X-APPLE-STRUCTURED-LOCATION;VALUE=URI;X-ADDRESS=Van Dijcklaan 4\, Bilthoven
 \, Utrecht\, 3723 CG\, Nederland;X-APPLE-RADIUS=100;X-TITLE=Van Dijckschoo
 l:geo:52.136362,5.208565
END:VEVENT
BEGIN:VEVENT
UID:119@nootaandeman.nl
DTSTART;TZID=Europe/Amsterdam:20260315T140000
DTEND;TZID=Europe/Amsterdam:20260315T170000
DTSTAMP:20260216T143304Z
URL:https://nootaandeman.nl/events/optreden-in-service-flat-de-akker-de-bi
 lt/
SUMMARY:Optreden in Service-Flat De Akker\, De Bilt
DESCRIPTION:Optreden van noot aan de Man in het kader van Gluren bij de Bur
 en in Service-Flat De Akker te De Bilt\,.\n\nWij treden op om 14.00\, 15.0
 0 en 16.00 uur.
ATTACH;FMTTYPE=image/jpeg:https://nootaandeman.nl/wp-content/uploads/2026/
 02/Serviceflat-De-Akker-Bilthoven.jpeg
CATEGORIES:Optreden
LOCATION:Service-Flat De Akker\, Soestdijkseweg Zuid 87\, De Bilt\, 3732 HE
 \, Nederland
GEO:52.111507;5.189323
X-APPLE-STRUCTURED-LOCATION;VALUE=URI;X-ADDRESS=Soestdijkseweg Zuid 87\, De
  Bilt\, 3732 HE\, Nederland;X-APPLE-RADIUS=100;X-TITLE=Service-Flat De Akk
 er:geo:52.111507,5.189323
END:VEVENT
BEGIN:VEVENT
UID:48@nootaandeman.nl
DTSTART;TZID=Europe/Amsterdam:20260318T200000
DTEND;TZID=Europe/Amsterdam:20260401T220000
DTSTAMP:20260216T114606Z
URL:https://nootaandeman.nl/events/repetitie-noot-aan-de-man-2026-02-04-20
 26-02-05-2026-02-06-2026-02-07-2026-02-08-2026-02-09-2026-02-10-2026-02-11
 -2026-02-12-2026-02-13-2026-02-14-2026-02-15-2026-02-16-2026-02-17-2026-0-
 17-2026-03-18/
SUMMARY:Repetitie Noot aan de Man
DESCRIPTION:Koorrepetitie Noot aan de Man
ATTACH;FMTTYPE=image/jpeg:https://nootaandeman.nl/wp-content/uploads/2023/
 11/hoogland-fotografie_3469.jpg__2560x2560_q100_subsampling-2.jpg
CATEGORIES:Repetitie
LOCATION:Van Dijckschool\, Van Dijcklaan 4\, Bilthoven\, Utrecht\, 3723 CG\
 , Nederland
GEO:52.136362;5.208565
X-APPLE-STRUCTURED-LOCATION;VALUE=URI;X-ADDRESS=Van Dijcklaan 4\, Bilthoven
 \, Utrecht\, 3723 CG\, Nederland;X-APPLE-RADIUS=100;X-TITLE=Van Dijckschoo
 l:geo:52.136362,5.208565
END:VEVENT
BEGIN:VEVENT
UID:62@nootaandeman.nl
DTSTART;TZID=Europe/Amsterdam:20260401T200000
DTEND;TZID=Europe/Amsterdam:20260415T220000
DTSTAMP:20260216T114606Z
URL:https://nootaandeman.nl/events/repetitie-noot-aan-de-man-2026-02-04-20
 26-02-05-2026-02-06-2026-02-07-2026-02-08-2026-02-09-2026-02-10-2026-02-11
 -2026-02-12-2026-02-13-2026-02-14-2026-02-15-2026-02-16-2026-02-17-2026-0-
 31-2026-04-01/
SUMMARY:Repetitie Noot aan de Man
DESCRIPTION:Koorrepetitie Noot aan de Man
ATTACH;FMTTYPE=image/jpeg:https://nootaandeman.nl/wp-content/uploads/2023/
 11/hoogland-fotografie_3469.jpg__2560x2560_q100_subsampling-2.jpg
CATEGORIES:Repetitie
LOCATION:Van Dijckschool\, Van Dijcklaan 4\, Bilthoven\, Utrecht\, 3723 CG\
 , Nederland
GEO:52.136362;5.208565
X-APPLE-STRUCTURED-LOCATION;VALUE=URI;X-ADDRESS=Van Dijcklaan 4\, Bilthoven
 \, Utrecht\, 3723 CG\, Nederland;X-APPLE-RADIUS=100;X-TITLE=Van Dijckschoo
 l:geo:52.136362,5.208565
END:VEVENT
BEGIN:VEVENT
UID:76@nootaandeman.nl
DTSTART;TZID=Europe/Amsterdam:20260415T200000
DTEND;TZID=Europe/Amsterdam:20260429T220000
DTSTAMP:20260216T114606Z
URL:https://nootaandeman.nl/events/repetitie-noot-aan-de-man-2026-02-04-20
 26-02-05-2026-02-06-2026-02-07-2026-02-08-2026-02-09-2026-02-10-2026-02-11
 -2026-02-12-2026-02-13-2026-02-14-2026-02-15-2026-02-16-2026-02-17-2026-0-
 14-2026-04-15/
SUMMARY:Repetitie Noot aan de Man
DESCRIPTION:Koorrepetitie Noot aan de Man
ATTACH;FMTTYPE=image/jpeg:https://nootaandeman.nl/wp-content/uploads/2023/
 11/hoogland-fotografie_3469.jpg__2560x2560_q100_subsampling-2.jpg
CATEGORIES:Repetitie
LOCATION:Van Dijckschool\, Van Dijcklaan 4\, Bilthoven\, Utrecht\, 3723 CG\
 , Nederland
GEO:52.136362;5.208565
X-APPLE-STRUCTURED-LOCATION;VALUE=URI;X-ADDRESS=Van Dijcklaan 4\, Bilthoven
 \, Utrecht\, 3723 CG\, Nederland;X-APPLE-RADIUS=100;X-TITLE=Van Dijckschoo
 l:geo:52.136362,5.208565
END:VEVENT
BEGIN:VEVENT
UID:90@nootaandeman.nl
DTSTART;TZID=Europe/Amsterdam:20260429T200000
DTEND;TZID=Europe/Amsterdam:20260513T220000
DTSTAMP:20260216T114606Z
URL:https://nootaandeman.nl/events/repetitie-noot-aan-de-man-2026-02-04-20
 26-02-05-2026-02-06-2026-02-07-2026-02-08-2026-02-09-2026-02-10-2026-02-11
 -2026-02-12-2026-02-13-2026-02-14-2026-02-15-2026-02-16-2026-02-17-2026-0-
 28-2026-04-29/
SUMMARY:Repetitie Noot aan de Man
DESCRIPTION:Koorrepetitie Noot aan de Man
ATTACH;FMTTYPE=image/jpeg:https://nootaandeman.nl/wp-content/uploads/2023/
 11/hoogland-fotografie_3469.jpg__2560x2560_q100_subsampling-2.jpg
CATEGORIES:Repetitie
LOCATION:Van Dijckschool\, Van Dijcklaan 4\, Bilthoven\, Utrecht\, 3723 CG\
 , Nederland
GEO:52.136362;5.208565
X-APPLE-STRUCTURED-LOCATION;VALUE=URI;X-ADDRESS=Van Dijcklaan 4\, Bilthoven
 \, Utrecht\, 3723 CG\, Nederland;X-APPLE-RADIUS=100;X-TITLE=Van Dijckschoo
 l:geo:52.136362,5.208565
END:VEVENT
BEGIN:VEVENT
UID:104@nootaandeman.nl
DTSTART;TZID=Europe/Amsterdam:20260513T200000
DTEND;TZID=Europe/Amsterdam:20260527T220000
DTSTAMP:20260216T114606Z
URL:https://nootaandeman.nl/events/repetitie-noot-aan-de-man-2026-02-04-20
 26-02-05-2026-02-06-2026-02-07-2026-02-08-2026-02-09-2026-02-10-2026-02-11
 -2026-02-12-2026-02-13-2026-02-14-2026-02-15-2026-02-16-2026-02-17-2026-0-
 12-2026-05-13/
SUMMARY:Repetitie Noot aan de Man
DESCRIPTION:Koorrepetitie Noot aan de Man
ATTACH;FMTTYPE=image/jpeg:https://nootaandeman.nl/wp-content/uploads/2023/
 11/hoogland-fotografie_3469.jpg__2560x2560_q100_subsampling-2.jpg
CATEGORIES:Repetitie
LOCATION:Van Dijckschool\, Van Dijcklaan 4\, Bilthoven\, Utrecht\, 3723 CG\
 , Nederland
GEO:52.136362;5.208565
X-APPLE-STRUCTURED-LOCATION;VALUE=URI;X-ADDRESS=Van Dijcklaan 4\, Bilthoven
 \, Utrecht\, 3723 CG\, Nederland;X-APPLE-RADIUS=100;X-TITLE=Van Dijckschoo
 l:geo:52.136362,5.208565
END:VEVENT
BEGIN:VEVENT
UID:118@nootaandeman.nl
DTSTART;TZID=Europe/Amsterdam:20260527T200000
DTEND;TZID=Europe/Amsterdam:20260610T220000
DTSTAMP:20260216T114606Z
URL:https://nootaandeman.nl/events/repetitie-noot-aan-de-man-2026-02-04-20
 26-02-05-2026-02-06-2026-02-07-2026-02-08-2026-02-09-2026-02-10-2026-02-11
 -2026-02-12-2026-02-13-2026-02-14-2026-02-15-2026-02-16-2026-02-17-2026-0-
 26-2026-05-27/
SUMMARY:Repetitie Noot aan de Man
DESCRIPTION:Koorrepetitie Noot aan de Man
ATTACH;FMTTYPE=image/jpeg:https://nootaandeman.nl/wp-content/uploads/2023/
 11/hoogland-fotografie_3469.jpg__2560x2560_q100_subsampling-2.jpg
CATEGORIES:Repetitie
LOCATION:Van Dijckschool\, Van Dijcklaan 4\, Bilthoven\, Utrecht\, 3723 CG\
 , Nederland
GEO:52.136362;5.208565
X-APPLE-STRUCTURED-LOCATION;VALUE=URI;X-ADDRESS=Van Dijcklaan 4\, Bilthoven
 \, Utrecht\, 3723 CG\, Nederland;X-APPLE-RADIUS=100;X-TITLE=Van Dijckschoo
 l:geo:52.136362,5.208565
END:VEVENT
BEGIN:VEVENT
UID:120@nootaandeman.nl
DTSTART;TZID=Europe/Amsterdam:20260610T200000
DTEND;TZID=Europe/Amsterdam:20260610T220000
DTSTAMP:20260216T132443Z
URL:https://nootaandeman.nl/events/repetitie-noot-aan-de-man/
SUMMARY:Repetitie Noot aan de Man
DESCRIPTION:Koorrepetitie Noot aan de Man
ATTACH;FMTTYPE=image/jpeg:https://nootaandeman.nl/wp-content/uploads/2023/
 11/hoogland-fotografie_3469.jpg__2560x2560_q100_subsampling-2.jpg
CATEGORIES:Repetitie
LOCATION:Van Dijckschool\, Van Dijcklaan 4\, Bilthoven\, Utrecht\, 3723 CG\
 , Nederland
GEO:52.136362;5.208565
X-APPLE-STRUCTURED-LOCATION;VALUE=URI;X-ADDRESS=Van Dijcklaan 4\, Bilthoven
 \, Utrecht\, 3723 CG\, Nederland;X-APPLE-RADIUS=100;X-TITLE=Van Dijckschoo
 l:geo:52.136362,5.208565
END:VEVENT
BEGIN:VEVENT
UID:122@nootaandeman.nl
DTSTART;TZID=Europe/Amsterdam:20260624T200000
DTEND;TZID=Europe/Amsterdam:20260624T220000
DTSTAMP:20260216T135230Z
URL:https://nootaandeman.nl/events/repetitie-noot-aan-de-man-3/
SUMMARY:Repetitie Noot aan de Man
DESCRIPTION:Koorrepetitie Noot aan de Man
ATTACH;FMTTYPE=image/jpeg:https://nootaandeman.nl/wp-content/uploads/2023/
 11/hoogland-fotografie_3469.jpg__2560x2560_q100_subsampling-2.jpg
CATEGORIES:Repetitie
LOCATION:Van Dijckschool\, Van Dijcklaan 4\, Bilthoven\, Utrecht\, 3723 CG\
 , Nederland
GEO:52.136362;5.208565
X-APPLE-STRUCTURED-LOCATION;VALUE=URI;X-ADDRESS=Van Dijcklaan 4\, Bilthoven
 \, Utrecht\, 3723 CG\, Nederland;X-APPLE-RADIUS=100;X-TITLE=Van Dijckschoo
 l:geo:52.136362,5.208565
END:VEVENT
BEGIN:VEVENT
UID:124@nootaandeman.nl
DTSTART;TZID=Europe/Amsterdam:20260708T200000
DTEND;TZID=Europe/Amsterdam:20260708T220000
DTSTAMP:20260216T135348Z
URL:https://nootaandeman.nl/events/repetitie-noot-aan-de-man-4/
SUMMARY:Repetitie Noot aan de Man
DESCRIPTION:Koorrepetitie Noot aan de Man
ATTACH;FMTTYPE=image/jpeg:https://nootaandeman.nl/wp-content/uploads/2023/
 11/hoogland-fotografie_3469.jpg__2560x2560_q100_subsampling-2.jpg
CATEGORIES:Repetitie
LOCATION:Van Dijckschool\, Van Dijcklaan 4\, Bilthoven\, Utrecht\, 3723 CG\
 , Nederland
GEO:52.136362;5.208565
X-APPLE-STRUCTURED-LOCATION;VALUE=URI;X-ADDRESS=Van Dijcklaan 4\, Bilthoven
 \, Utrecht\, 3723 CG\, Nederland;X-APPLE-RADIUS=100;X-TITLE=Van Dijckschoo
 l:geo:52.136362,5.208565
END:VEVENT
BEGIN:VTIMEZONE
TZID:Europe/Amsterdam
X-LIC-LOCATION:Europe/Amsterdam
BEGIN:STANDARD
DTSTART:20251026T020000
TZOFFSETFROM:+0200
TZOFFSETTO:+0100
TZNAME:CET
END:STANDARD
BEGIN:DAYLIGHT
DTSTART:20260329T030000
TZOFFSETFROM:+0100
TZOFFSETTO:+0200
TZNAME:CEST
END:DAYLIGHT
END:VTIMEZONE
END:VCALENDAR